BEGIN:VCALENDAR
VERSION:2.0
PRODID:-//Velovitamine.fr - ECPv6.15.17.1//NONSGML v1.0//EN
CALSCALE:GREGORIAN
METHOD:PUBLISH
X-ORIGINAL-URL:https://velovitamine.fr
X-WR-CALDESC:Évènements pour Velovitamine.fr
REFRESH-INTERVAL;VALUE=DURATION:PT1H
X-Robots-Tag:noindex
X-PUBLISHED-TTL:PT1H
BEGIN:VTIMEZONE
TZID:Europe/Helsinki
BEGIN:DAYLIGHT
TZOFFSETFROM:+0200
TZOFFSETTO:+0300
TZNAME:EEST
DTSTART:20250330T010000
END:DAYLIGHT
BEGIN:STANDARD
TZOFFSETFROM:+0300
TZOFFSETTO:+0200
TZNAME:EET
DTSTART:20251026T010000
END:STANDARD
BEGIN:DAYLIGHT
TZOFFSETFROM:+0200
TZOFFSETTO:+0300
TZNAME:EEST
DTSTART:20260329T010000
END:DAYLIGHT
BEGIN:STANDARD
TZOFFSETFROM:+0300
TZOFFSETTO:+0200
TZNAME:EET
DTSTART:20261025T010000
END:STANDARD
BEGIN:DAYLIGHT
TZOFFSETFROM:+0200
TZOFFSETTO:+0300
TZNAME:EEST
DTSTART:20270328T010000
END:DAYLIGHT
BEGIN:STANDARD
TZOFFSETFROM:+0300
TZOFFSETTO:+0200
TZNAME:EET
DTSTART:20271031T010000
END:STANDARD
END:VTIMEZONE
BEGIN:VEVENT
DTSTART;TZID=Europe/Helsinki:20260425T143000
DTEND;TZID=Europe/Helsinki:20260425T173000
DTSTAMP:20260420T152055
CREATED:20260122T120339Z
LAST-MODIFIED:20260130T152219Z
UID:260876-1777127400-1777138200@velovitamine.fr
SUMMARY:[:fr]Vélo et vin - Balade Oenologique Côte de Beaune Grand cru - 1/2 journée -[:en]Wine & Bike Tour in Burgundy Côte de Beaune & Côte de Nuits[:]
DESCRIPTION:Activité vélo sur la Côte de Beaune Grand cru au départ de Pommard/Beaune.\nImmersion en Bourgogne : vélo\, paysages & dégustation. Encadré par votre moniteur\, vous traverserez les clos\, parcelles et villages de vignerons depuis Pommard pour rejoindre Puligny Montrachet. Au menu villages de Volnay\, Meursault et ses ruelles murées de pierres de Bourgogne\, Clos Santenots\, les Charmes dessus\, Clos des Meix\, les Perrières\,  Blagny … les grands crus de Batard-Montrachet…. et une dégustation dans les vignes en milieu de parcours !\nCompris\, clé en main : Votre moniteur\, guide + la balade + le vélo + la dégustation \nDégustation « Prestige » 3 vins de propriété sélectionnés par mes soins (AOC Régionale\, AOC Village… dont un 1er Cru) ou dégustation « Découverte » :  2 vins de Bourgogne. \nTarif activité + dégustation au choix :   59€/pers (2 vins) 65 €/pers (3 vins)\n soit  49€/pers  + prix €/pers avec dégustation (3 vins).\nTarif activité sans dégustation :   49 €/pers \n\nDurée : 2 h à 3 h pauses\, explications vins & terroirs\,  dégustation vins de Bourgogne incluse. \nParcours : plat sur une boucle adaptée à tout public. \nEquipement fourni : Vélo confort\, casque\, bouteille d’eau. \nOption vélo électrique (haute saison) : + 17 € \nRDV : A 14 h30 – Au parking de l’église de Pommard. \nPS : Au choix avec ou sans dégustation de vin\, possibilité de balade simple accompagnée dans le vignoble. \nMétéo prévue\, annoncée : « Bourgeon en Avril\, Met peu de vin en baril » – « Pâques tôt\, Pâques tard La bourre y part. » Les beaux jours ensoleillés sont de retour\, mais gardez un foulard près de vous\, un vent frais est parfois prévisible en fin d’après midi. La période des 5 glaces n’est pas encore passée ! \nEquipements/habits à prévoir : Tenue décontractée\, lunettes de soleil\, sweet\, foulard/écharpe. \nInformation – Réservation – Inscription :  \n– par téléphone au 06 74 59 70 64 ou \n– par mail sur lien suivant : Demande en ligne  (indiquez vos tailles pour les vélos ; exemple : F 1\,63m/H1\,78m )  \n  \nAperçu Vidéo d’une balade Oenologique :    Cliquez ici \n  \n\nEntre amis\, copains\, familles\, individuels. Venez partager l’exploration et la découverte du vignoble en toute convivialité et bonne humeur. Que vous partagiez en groupe ou restiez contempler personnellement le paysage en fin de file\, tout n’est qu’un choix de prendre son temps de vivre.
URL:https://velovitamine.fr/event/velo-et-vin-balade-oenologique-cote-de-beaune-1er-cru-grand-cru-1-2-journee/
LOCATION:Pommard\, Pommard place de l'église\, Pommard\, 21630\, France
CATEGORIES:Familliale,Adultes,VTC,Loisir,détente
ATTACH;FMTTYPE=image/jpeg:https://velovitamine.fr/wp-content/uploads/2025/02/Jura-degustation-et-decouverte-a-velo-du-vignoble-ses-payasges-ses-vins-naturels-et-son-Vin-Jaune-velovitamine-44-scaled.jpg
END:VEVENT
END:VCALENDAR