BEGIN:VCALENDAR
VERSION:2.0
PRODID:-//Velovitamine.fr - ECPv6.15.17.1//NONSGML v1.0//EN
CALSCALE:GREGORIAN
METHOD:PUBLISH
X-WR-CALNAME:Velovitamine.fr
X-ORIGINAL-URL:https://velovitamine.fr/es
X-WR-CALDESC:Eventos para Velovitamine.fr
REFRESH-INTERVAL;VALUE=DURATION:PT1H
X-Robots-Tag:noindex
X-PUBLISHED-TTL:PT1H
BEGIN:VTIMEZONE
TZID:Europe/Helsinki
BEGIN:DAYLIGHT
TZOFFSETFROM:+0200
TZOFFSETTO:+0300
TZNAME:EEST
DTSTART:20250330T010000
END:DAYLIGHT
BEGIN:STANDARD
TZOFFSETFROM:+0300
TZOFFSETTO:+0200
TZNAME:EET
DTSTART:20251026T010000
END:STANDARD
BEGIN:DAYLIGHT
TZOFFSETFROM:+0200
TZOFFSETTO:+0300
TZNAME:EEST
DTSTART:20260329T010000
END:DAYLIGHT
BEGIN:STANDARD
TZOFFSETFROM:+0300
TZOFFSETTO:+0200
TZNAME:EET
DTSTART:20261025T010000
END:STANDARD
BEGIN:DAYLIGHT
TZOFFSETFROM:+0200
TZOFFSETTO:+0300
TZNAME:EEST
DTSTART:20270328T010000
END:DAYLIGHT
BEGIN:STANDARD
TZOFFSETFROM:+0300
TZOFFSETTO:+0200
TZNAME:EET
DTSTART:20271031T010000
END:STANDARD
END:VTIMEZONE
BEGIN:VEVENT
DTSTART;TZID=Europe/Helsinki:20260321T140000
DTEND;TZID=Europe/Helsinki:20260321T170000
DTSTAMP:20260424T113715
CREATED:20260316T121703Z
LAST-MODIFIED:20260316T121703Z
UID:261066-1774101600-1774112400@velovitamine.fr
SUMMARY:[:fr]Vélo et vin - Balade Oenologique Côte de Nuits 1er cru & Grand cru - 1/2 journée -[:en]Wine & bike - Wine Tour Côte de Nuits 1er cru & Grand cru - 1/2 day -[:pt]Vihnos & bicicleta - Passeio Oenologico Côte de Nuits 1er cru & Grand cru - 1/2 journée -[:es]bicicleta iy Vino - Paseo enológico Côte de Nuits 1er cru & Grand cru - 1/2 journée -[:]
DESCRIPTION:Actividad de paseo guiado en bicicleta por la « Côte de Nuits Grand Cru » con salida desde el viñedo\n\n\nDegustación Prestige o Descubrimiento\n\n\nInmersión en Borgoña: bicicleta\, paisajes y degustación. Acompañado por su monitor\, atravesará los “clos”\, parcelas y pueblos de viticultores desde el sur de Dijon o Nuits-Saint-Georges para llegar a los « Premier y Grand Crus » de Morey y Gevrey-Chambertin.\nEn el programa\, A.O.P y “climats”: «Vosne-Romanée\, Clos Vougeot\, Fixin\, Clos Napoléon\, Les Hervelets\, La Combe aux Moines\, Le Craipillot»… ¡y una degustación entre las viñas al borde de un clos! \nIncluye: su monitor\, guía enológico + el paseo + la bicicleta + opción degustación. \nDegustación “Prestige”: 3 vinos de la propiedad seleccionados por mí (AOC Regional\, AOC Village… incluyendo un Premier Cru)\n“Descubrimiento”: 2 vinos de Borgoña. \nTarifa actividad + opción degustación: 59 €/persona (3 vinos)\n45 €/persona + precio €/persona con degustación de vinos y aperitivos gourmet. \nHorario confirmado : 10:00 a 13:00 o 14:00 a 17:00 \nDuración : 2 a 3 horas con pausas\, explicaciones sobre vinos y terruños\, ambiente cálido y amistoso\, degustación de vinos de Borgoña incluida. \nRecorrido fácil: llano\, en circuito adaptado a todo público\, por pequeñas carreteras poco transitadas. \nModalidad : paseo abierto con inscripción previa para salida en grupo. \nEquipamiento incluido: bicicleta confort\, casco\, botella de agua. \nOpción bicicleta eléctrica: + 15 €/persona \nPunto de encuentro: aparcamiento del cementerio de Nuits-Saint-Georges o Chenôve\, a 10/15 minutos en tranvía desde el centro de Dijon. \nPD: A elegir con o sin degustación de vino (paseo acompañado y guiado por el viñedo). \nRopa/equipamiento recomendado: vestimenta cómoda\, gafas de sol\, botella de agua adicional si es necesario.\nEn marzo/abril y octubre: cortavientos\, pañuelo o bufanda. \nInformación – Reserva – Inscripción a la actividad: \n\npor teléfono al +336 74 59 70 64 \npor correo electrónico : Isolicitud en linea   . Indique la fecha y sus tallas para las bicicletas; ejemplo: M 1\,63 m / H 1\,78 m.\n\nVista previa en video de un paseo enológico:    Cliquez ici \n \n  \nEntre amigos\, compañeros\, familias o individuales. Venga a compartir la exploración y el descubrimiento del viñedo en un ambiente cordial y de buen humor. Ya sea en grupo o contemplando el paisaje personalmente al final de la fila\, todo es una elección para tomarse el tiempo de vivir.
URL:https://velovitamine.fr/es/event/velo-et-vin-balade-oenologique-cote-de-nuits-1er-cru-grand-cru-1-2-journee-11/
LOCATION:Parking face au cimetière Chenôve\, parking du cimetière\, Chenôve\, 21300\, France
CATEGORIES:Familliale,Adultes,VTC,Loisir,détente
ATTACH;FMTTYPE=image/jpeg:https://velovitamine.fr/wp-content/uploads/2026/02/Balade-guidee-vignoble-bourguignon-velovitamine.fr_-scaled.jpg
END:VEVENT
END:VCALENDAR